BEGIN:VCALENDAR
VERSION:2.0
PRODID:-//Ellwood City Library - ECPv6.8.0//NONSGML v1.0//EN
CALSCALE:GREGORIAN
METHOD:PUBLISH
X-WR-CALNAME:Ellwood City Library
X-ORIGINAL-URL:https://ellwoodcitylibrary.com
X-WR-CALDESC:Events for Ellwood City Library
REFRESH-INTERVAL;VALUE=DURATION:PT1H
X-Robots-Tag:noindex
X-PUBLISHED-TTL:PT1H
BEGIN:VTIMEZONE
TZID:UTC
BEGIN:STANDARD
TZOFFSETFROM:+0000
TZOFFSETTO:+0000
TZNAME:UTC
DTSTART:20240101T000000
END:STANDARD
END:VTIMEZONE
BEGIN:VEVENT
DTSTART;TZID=UTC:20240904T100000
DTEND;TZID=UTC:20240904T150000
DTSTAMP:20260423T085902
CREATED:20240903T142915Z
LAST-MODIFIED:20240903T142934Z
UID:1581-1725444000-1725462000@ellwoodcitylibrary.com
SUMMARY:Closed until 3pm
DESCRIPTION:Remembering Ellwood City Library’s Retired Director: Veronica Pacella.\nThe Ellwood City Public Library will be closed until 3pm on Wednesday\, Sept. 4th in her memory.\n\nThe library will be open from 3pm – 7pm on Wed. Sept. 4th.
URL:https://ellwoodcitylibrary.com/event/closed-until-3pm/
CATEGORIES:Adults,Kids
END:VEVENT
END:VCALENDAR