BEGIN:VCALENDAR
VERSION:2.0
PRODID:-//Ellwood City Library - ECPv6.8.0//NONSGML v1.0//EN
CALSCALE:GREGORIAN
METHOD:PUBLISH
X-WR-CALNAME:Ellwood City Library
X-ORIGINAL-URL:https://ellwoodcitylibrary.com
X-WR-CALDESC:Events for Ellwood City Library
REFRESH-INTERVAL;VALUE=DURATION:PT1H
X-Robots-Tag:noindex
X-PUBLISHED-TTL:PT1H
BEGIN:VTIMEZONE
TZID:UTC
BEGIN:STANDARD
TZOFFSETFROM:+0000
TZOFFSETTO:+0000
TZNAME:UTC
DTSTART:20240101T000000
END:STANDARD
END:VTIMEZONE
BEGIN:VEVENT
DTSTART;TZID=UTC:20240919T130000
DTEND;TZID=UTC:20240919T150000
DTSTAMP:20260423T103120
CREATED:20240501T144907Z
LAST-MODIFIED:20240903T143028Z
UID:1264-1726750800-1726758000@ellwoodcitylibrary.com
SUMMARY:Free Play in the Kids' Area
DESCRIPTION:
URL:https://ellwoodcitylibrary.com/event/free-play-in-the-kids-area-2-2024-09-19/
CATEGORIES:Kids
END:VEVENT
BEGIN:VEVENT
DTSTART;TZID=UTC:20240919T180000
DTEND;TZID=UTC:20240919T180000
DTSTAMP:20260423T103120
CREATED:20231101T202742Z
LAST-MODIFIED:20240923T151829Z
UID:1606-1726768800-1726768800@ellwoodcitylibrary.com
SUMMARY:"Just You & Me" Book Group
DESCRIPTION:
URL:https://ellwoodcitylibrary.com/event/just-you-me-2024-09-19/
CATEGORIES:Adults,Kids
END:VEVENT
END:VCALENDAR