BEGIN:VCALENDAR
VERSION:2.0
PRODID:-//Ellwood City Library - ECPv6.8.0//NONSGML v1.0//EN
CALSCALE:GREGORIAN
METHOD:PUBLISH
X-ORIGINAL-URL:https://ellwoodcitylibrary.com
X-WR-CALDESC:Events for Ellwood City Library
REFRESH-INTERVAL;VALUE=DURATION:PT1H
X-Robots-Tag:noindex
X-PUBLISHED-TTL:PT1H
BEGIN:VTIMEZONE
TZID:UTC
BEGIN:STANDARD
TZOFFSETFROM:+0000
TZOFFSETTO:+0000
TZNAME:UTC
DTSTART:20240101T000000
END:STANDARD
END:VTIMEZONE
BEGIN:VEVENT
DTSTART;TZID=UTC:20241007T103000
DTEND;TZID=UTC:20241007T113000
DTSTAMP:20260420T104702
CREATED:20240828T153310Z
LAST-MODIFIED:20240828T153846Z
UID:1183-1728297000-1728300600@ellwoodcitylibrary.com
SUMMARY:Music & Movement
DESCRIPTION:Every 1st and 3rd Monday  |  10:30am\nAll mobile children are welcome to come dance\, wiggle\, and sing to wake up on these Monday mornings! On the weeks we don’t have M&M\, feel free to come and play in the Children’s Area with our library friends for more socialization!
URL:https://ellwoodcitylibrary.com/event/music-movement-2/
CATEGORIES:Kids
END:VEVENT
BEGIN:VEVENT
DTSTART;TZID=UTC:20241007T130000
DTEND;TZID=UTC:20241007T150000
DTSTAMP:20260420T104702
CREATED:20240501T144907Z
LAST-MODIFIED:20240903T143037Z
UID:1273-1728306000-1728313200@ellwoodcitylibrary.com
SUMMARY:Free Play in the Kids' Area
DESCRIPTION:
URL:https://ellwoodcitylibrary.com/event/free-play-in-the-kids-area-2-2024-10-07/
CATEGORIES:Kids
END:VEVENT
END:VCALENDAR