BEGIN:VCALENDAR
VERSION:2.0
PRODID:-//Ellwood City Library - ECPv6.8.0//NONSGML v1.0//EN
CALSCALE:GREGORIAN
METHOD:PUBLISH
X-ORIGINAL-URL:https://ellwoodcitylibrary.com
X-WR-CALDESC:Events for Ellwood City Library
REFRESH-INTERVAL;VALUE=DURATION:PT1H
X-Robots-Tag:noindex
X-PUBLISHED-TTL:PT1H
BEGIN:VTIMEZONE
TZID:UTC
BEGIN:STANDARD
TZOFFSETFROM:+0000
TZOFFSETTO:+0000
TZNAME:UTC
DTSTART:20240101T000000
END:STANDARD
END:VTIMEZONE
BEGIN:VEVENT
DTSTART;TZID=UTC:20241015T100000
DTEND;TZID=UTC:20241019T160000
DTSTAMP:20260420T102438
CREATED:20240703T184501Z
LAST-MODIFIED:20240703T184502Z
UID:1116-1728986400-1729353600@ellwoodcitylibrary.com
SUMMARY:Annual Book Sale
DESCRIPTION:
URL:https://ellwoodcitylibrary.com/event/annual-book-sale/
CATEGORIES:Adults,Kids
END:VEVENT
BEGIN:VEVENT
DTSTART;TZID=UTC:20241016T130000
DTEND;TZID=UTC:20241016T150000
DTSTAMP:20260420T102438
CREATED:20240501T144907Z
LAST-MODIFIED:20240903T143040Z
UID:1278-1729083600-1729090800@ellwoodcitylibrary.com
SUMMARY:Free Play in the Kids' Area
DESCRIPTION:
URL:https://ellwoodcitylibrary.com/event/free-play-in-the-kids-area-2-2024-10-16/
CATEGORIES:Kids
END:VEVENT
END:VCALENDAR