BEGIN:VCALENDAR
VERSION:2.0
PRODID:-//Ellwood City Library - ECPv6.8.0//NONSGML v1.0//EN
CALSCALE:GREGORIAN
METHOD:PUBLISH
X-ORIGINAL-URL:https://ellwoodcitylibrary.com
X-WR-CALDESC:Events for Ellwood City Library
REFRESH-INTERVAL;VALUE=DURATION:PT1H
X-Robots-Tag:noindex
X-PUBLISHED-TTL:PT1H
BEGIN:VTIMEZONE
TZID:UTC
BEGIN:STANDARD
TZOFFSETFROM:+0000
TZOFFSETTO:+0000
TZNAME:UTC
DTSTART:20250101T000000
END:STANDARD
END:VTIMEZONE
BEGIN:VEVENT
DTSTART;TZID=UTC:20250513T103000
DTEND;TZID=UTC:20250513T103000
DTSTAMP:20260420T092524
CREATED:20240828T153745Z
LAST-MODIFIED:20240828T154128Z
UID:1213-1747132200-1747132200@ellwoodcitylibrary.com
SUMMARY:Baby Laptime
DESCRIPTION:Every 2nd and 4th Tuesday  |  10:30am\nFor newborns to under 3\, join us for stories\, music\, and more! Stay after Baby laptime for some playtime as well. On the weeks we don’t have laptime\, feel free to come and play in the Children’s Area with our library friends for more socialization!
URL:https://ellwoodcitylibrary.com/event/baby-laptime-2-2025-05-13/
CATEGORIES:Kids
END:VEVENT
BEGIN:VEVENT
DTSTART;TZID=UTC:20250513T130000
DTEND;TZID=UTC:20250513T150000
DTSTAMP:20260420T092524
CREATED:20240501T144907Z
LAST-MODIFIED:20240903T143140Z
UID:1393-1747141200-1747148400@ellwoodcitylibrary.com
SUMMARY:Free Play in the Kids' Area
DESCRIPTION:
URL:https://ellwoodcitylibrary.com/event/free-play-in-the-kids-area-2-2025-05-13/
CATEGORIES:Kids
END:VEVENT
END:VCALENDAR