BEGIN:VCALENDAR
VERSION:2.0
PRODID:-//Ellwood City Library - ECPv6.8.0//NONSGML v1.0//EN
CALSCALE:GREGORIAN
METHOD:PUBLISH
X-WR-CALNAME:Ellwood City Library
X-ORIGINAL-URL:https://ellwoodcitylibrary.com
X-WR-CALDESC:Events for Ellwood City Library
REFRESH-INTERVAL;VALUE=DURATION:PT1H
X-Robots-Tag:noindex
X-PUBLISHED-TTL:PT1H
BEGIN:VTIMEZONE
TZID:UTC
BEGIN:STANDARD
TZOFFSETFROM:+0000
TZOFFSETTO:+0000
TZNAME:UTC
DTSTART:20240101T000000
END:STANDARD
END:VTIMEZONE
BEGIN:VEVENT
DTSTART;TZID=UTC:20241101T103000
DTEND;TZID=UTC:20241101T103000
DTSTAMP:20260420T091600
CREATED:20231018T230840Z
LAST-MODIFIED:20240919T180503Z
UID:1497-1730457000-1730457000@ellwoodcitylibrary.com
SUMMARY:Coloring for Adults
DESCRIPTION:
URL:https://ellwoodcitylibrary.com/event/adult-coloring-2024-11-01/
CATEGORIES:Adults
END:VEVENT
BEGIN:VEVENT
DTSTART;TZID=UTC:20241101T123000
DTEND;TZID=UTC:20241101T143000
DTSTAMP:20260420T091600
CREATED:20231018T231609Z
LAST-MODIFIED:20240919T180329Z
UID:1458-1730464200-1730471400@ellwoodcitylibrary.com
SUMMARY:Adult Knitting Group
DESCRIPTION:
URL:https://ellwoodcitylibrary.com/event/knitters-group-2024-11-01/
CATEGORIES:Adults
END:VEVENT
BEGIN:VEVENT
DTSTART;TZID=UTC:20241102T100000
DTEND;TZID=UTC:20241102T104500
DTSTAMP:20260420T091600
CREATED:20240828T152709Z
LAST-MODIFIED:20240828T152709Z
UID:1220-1730541600-1730544300@ellwoodcitylibrary.com
SUMMARY:Reading Buddies
DESCRIPTION: Join our certified Therapy Dogs for some calm reading time. Come practice your reading skills with the nicest dogs in town.
URL:https://ellwoodcitylibrary.com/event/reading-buddies-2-2024-11-02/
CATEGORIES:Kids
END:VEVENT
BEGIN:VEVENT
DTSTART;TZID=UTC:20241102T104500
DTEND;TZID=UTC:20241102T114500
DTSTAMP:20260420T091600
CREATED:20240828T152832Z
LAST-MODIFIED:20240828T152832Z
UID:1175-1730544300-1730547900@ellwoodcitylibrary.com
SUMMARY:STEAM
DESCRIPTION:For Kindergarteners and Up: Watch the monthly calendar for our theme each month. Some examples are: Legos\, Board Games\, Art\, Science Experiments\, and Special Speakers!
URL:https://ellwoodcitylibrary.com/event/steam-2024-11-02/
CATEGORIES:Kids
END:VEVENT
BEGIN:VEVENT
DTSTART;TZID=UTC:20241102T120000
DTEND;TZID=UTC:20241102T130000
DTSTAMP:20260420T091600
CREATED:20240828T152923Z
LAST-MODIFIED:20240828T152923Z
UID:1226-1730548800-1730552400@ellwoodcitylibrary.com
SUMMARY:Bookworms
DESCRIPTION:This monthly book group is for 3rd – 5th graders. PLEASE CALL TO SIGN UP! Each child receives a free book each month they attend.
URL:https://ellwoodcitylibrary.com/event/bookworms-2-2024-11-02/
CATEGORIES:Kids
END:VEVENT
BEGIN:VEVENT
DTSTART;TZID=UTC:20241104T103000
DTEND;TZID=UTC:20241104T113000
DTSTAMP:20260420T091600
CREATED:20240828T153310Z
LAST-MODIFIED:20240828T153310Z
UID:1214-1730716200-1730719800@ellwoodcitylibrary.com
SUMMARY:Music & Movement
DESCRIPTION:Every 1st and 3rd Monday  |  10:30am\nAll mobile children are welcome to come dance\, wiggle\, and sing to wake up on these Monday mornings! On the weeks we don’t have M&M\, feel free to come and play in the Children’s Area with our library friends for more socialization!
URL:https://ellwoodcitylibrary.com/event/music-movement-2-2024-11-04/
CATEGORIES:Kids
END:VEVENT
BEGIN:VEVENT
DTSTART;TZID=UTC:20241104T130000
DTEND;TZID=UTC:20241104T150000
DTSTAMP:20260420T091600
CREATED:20240501T144907Z
LAST-MODIFIED:20240903T143046Z
UID:1288-1730725200-1730732400@ellwoodcitylibrary.com
SUMMARY:Free Play in the Kids' Area
DESCRIPTION:
URL:https://ellwoodcitylibrary.com/event/free-play-in-the-kids-area-2-2024-11-04/
CATEGORIES:Kids
END:VEVENT
BEGIN:VEVENT
DTSTART;TZID=UTC:20241104T150000
DTEND;TZID=UTC:20241104T160000
DTSTAMP:20260420T091600
CREATED:20240828T155519Z
LAST-MODIFIED:20240828T155519Z
UID:1406-1730732400-1730736000@ellwoodcitylibrary.com
SUMMARY:Tween & Teen After School Program
DESCRIPTION:Every Monday  | 3pm-4pm\nJoin us after school in the back program room to hangout with your friends! Snacks\, board games\, art activities\, Legos\, etc. will be provided. Hangout with your friends in a friendly\, safe place after school!
URL:https://ellwoodcitylibrary.com/event/tween-teen-after-school-program-2-2024-11-04/
CATEGORIES:Kids
END:VEVENT
BEGIN:VEVENT
DTSTART;TZID=UTC:20241105T130000
DTEND;TZID=UTC:20241105T130000
DTSTAMP:20260420T091600
CREATED:20240828T154346Z
LAST-MODIFIED:20240828T154346Z
UID:1248-1730811600-1730811600@ellwoodcitylibrary.com
SUMMARY:Preschool Storytime
DESCRIPTION:Every 1st and 3rd Tuesday  |  1pm\nFor ages 3-5\, join us for stories\, music\, and more! Stay after storytime for some playtime as well. On the weeks we don’t have storytime\, feel free to come and play in the Children’s Area with our library friends for more socialization!
URL:https://ellwoodcitylibrary.com/event/preschool-storytime-2-2024-11-05/
CATEGORIES:Kids
END:VEVENT
BEGIN:VEVENT
DTSTART;TZID=UTC:20241105T130000
DTEND;TZID=UTC:20241105T150000
DTSTAMP:20260420T091600
CREATED:20240501T144907Z
LAST-MODIFIED:20240903T143047Z
UID:1289-1730811600-1730818800@ellwoodcitylibrary.com
SUMMARY:Free Play in the Kids' Area
DESCRIPTION:
URL:https://ellwoodcitylibrary.com/event/free-play-in-the-kids-area-2-2024-11-05/
CATEGORIES:Kids
END:VEVENT
BEGIN:VEVENT
DTSTART;TZID=UTC:20241106T130000
DTEND;TZID=UTC:20241106T150000
DTSTAMP:20260420T091600
CREATED:20240501T144907Z
LAST-MODIFIED:20240903T143047Z
UID:1290-1730898000-1730905200@ellwoodcitylibrary.com
SUMMARY:Free Play in the Kids' Area
DESCRIPTION:
URL:https://ellwoodcitylibrary.com/event/free-play-in-the-kids-area-2-2024-11-06/
CATEGORIES:Kids
END:VEVENT
BEGIN:VEVENT
DTSTART;TZID=UTC:20241106T150000
DTEND;TZID=UTC:20241106T150000
DTSTAMP:20260420T091600
CREATED:20231101T202220Z
LAST-MODIFIED:20240828T160046Z
UID:1164-1730905200-1730905200@ellwoodcitylibrary.com
SUMMARY:"Hooked on Books" Book Group
DESCRIPTION:
URL:https://ellwoodcitylibrary.com/event/hooked-on-books-2024-11-06/
CATEGORIES:Kids
END:VEVENT
BEGIN:VEVENT
DTSTART;TZID=UTC:20241106T180000
DTEND;TZID=UTC:20241106T180000
DTSTAMP:20260420T091600
CREATED:20231023T213455Z
LAST-MODIFIED:20240902T162930Z
UID:648-1730916000-1730916000@ellwoodcitylibrary.com
SUMMARY:Wednesday Evening Adult Book Group
DESCRIPTION:
URL:https://ellwoodcitylibrary.com/event/wednesday-evening-adult-book-group-2024-11-06/
CATEGORIES:Adults
END:VEVENT
BEGIN:VEVENT
DTSTART;TZID=UTC:20241107T103000
DTEND;TZID=UTC:20241107T123000
DTSTAMP:20260420T091600
CREATED:20240828T164406Z
LAST-MODIFIED:20240828T164406Z
UID:1530-1730975400-1730982600@ellwoodcitylibrary.com
SUMMARY:Adult Card Club
DESCRIPTION:Bring your card playing friends to join our Adult Card Club! We will provide coffee\, tea\, and water. Don’t play cards? We have board games too! Or bring your own dominos to play! So many options for everyone.
URL:https://ellwoodcitylibrary.com/event/adult-card-club-2024-11-07/
CATEGORIES:Adults
END:VEVENT
BEGIN:VEVENT
DTSTART;TZID=UTC:20241107T130000
DTEND;TZID=UTC:20241107T150000
DTSTAMP:20260420T091600
CREATED:20240501T144907Z
LAST-MODIFIED:20240903T143047Z
UID:1291-1730984400-1730991600@ellwoodcitylibrary.com
SUMMARY:Free Play in the Kids' Area
DESCRIPTION:
URL:https://ellwoodcitylibrary.com/event/free-play-in-the-kids-area-2-2024-11-07/
CATEGORIES:Kids
END:VEVENT
BEGIN:VEVENT
DTSTART;TZID=UTC:20241108T103000
DTEND;TZID=UTC:20241108T103000
DTSTAMP:20260420T091600
CREATED:20241107T180836Z
LAST-MODIFIED:20241107T180836Z
UID:1653-1731061800-1731061800@ellwoodcitylibrary.com
SUMMARY:Coloring for Adults
DESCRIPTION:
URL:https://ellwoodcitylibrary.com/event/coloring-for-adults/
CATEGORIES:Adults
END:VEVENT
BEGIN:VEVENT
DTSTART;TZID=UTC:20241108T123000
DTEND;TZID=UTC:20241108T143000
DTSTAMP:20260420T091600
CREATED:20241107T180918Z
LAST-MODIFIED:20241107T180918Z
UID:1654-1731069000-1731076200@ellwoodcitylibrary.com
SUMMARY:Adult Knitting Group
DESCRIPTION:
URL:https://ellwoodcitylibrary.com/event/adult-knitting-group/
CATEGORIES:Adults
END:VEVENT
BEGIN:VEVENT
DTSTART;VALUE=DATE:20241111
DTEND;VALUE=DATE:20241112
DTSTAMP:20260420T091600
CREATED:20231122T160815Z
LAST-MODIFIED:20231122T160815Z
UID:399-1731283200-1731369599@ellwoodcitylibrary.com
SUMMARY:Veteran's Day Library Closed
DESCRIPTION:
URL:https://ellwoodcitylibrary.com/event/veterans-day-library-closed-2/
CATEGORIES:Adults,Kids
END:VEVENT
BEGIN:VEVENT
DTSTART;TZID=UTC:20241112T103000
DTEND;TZID=UTC:20241112T103000
DTSTAMP:20260420T091600
CREATED:20240828T153745Z
LAST-MODIFIED:20240828T154109Z
UID:1201-1731407400-1731407400@ellwoodcitylibrary.com
SUMMARY:Baby Laptime
DESCRIPTION:Every 2nd and 4th Tuesday  |  10:30am\nFor newborns to under 3\, join us for stories\, music\, and more! Stay after Baby laptime for some playtime as well. On the weeks we don’t have laptime\, feel free to come and play in the Children’s Area with our library friends for more socialization!
URL:https://ellwoodcitylibrary.com/event/baby-laptime-2-2024-11-12/
CATEGORIES:Kids
END:VEVENT
BEGIN:VEVENT
DTSTART;TZID=UTC:20241112T130000
DTEND;TZID=UTC:20241112T150000
DTSTAMP:20260420T091600
CREATED:20240501T144907Z
LAST-MODIFIED:20240903T143048Z
UID:1292-1731416400-1731423600@ellwoodcitylibrary.com
SUMMARY:Free Play in the Kids' Area
DESCRIPTION:
URL:https://ellwoodcitylibrary.com/event/free-play-in-the-kids-area-2-2024-11-12/
CATEGORIES:Kids
END:VEVENT
BEGIN:VEVENT
DTSTART;TZID=UTC:20241112T180000
DTEND;TZID=UTC:20241112T190000
DTSTAMP:20260420T091600
CREATED:20240828T153056Z
LAST-MODIFIED:20240828T153056Z
UID:1588-1731434400-1731438000@ellwoodcitylibrary.com
SUMMARY:D.E.A.R. Silent Adult Book Group
DESCRIPTION:Join us in the back program room every month for a new type of book group! We will start with some “hangout time” then enjoy snacks while you read a favorite book of your choice. This is a great group for people who need some downtime to relax and read but still want to talk about their favorite books as well. Meets the 2nd Tuesday of the month at 6pm.
URL:https://ellwoodcitylibrary.com/event/d-e-a-r-silent-adult-book-group-2024-11-12/
CATEGORIES:Adults
END:VEVENT
BEGIN:VEVENT
DTSTART;TZID=UTC:20241112T190000
DTEND;TZID=UTC:20241112T190000
DTSTAMP:20260420T091600
CREATED:20231018T231936Z
LAST-MODIFIED:20240603T170540Z
UID:538-1731438000-1731438000@ellwoodcitylibrary.com
SUMMARY:ZOOM Twenty-Something Book Group (Virtual)
DESCRIPTION:
URL:https://ellwoodcitylibrary.com/event/zoom-20-something-book-group-virtual-2024-11-12/
CATEGORIES:Adults
END:VEVENT
BEGIN:VEVENT
DTSTART;TZID=UTC:20241113T130000
DTEND;TZID=UTC:20241113T150000
DTSTAMP:20260420T091600
CREATED:20240501T144907Z
LAST-MODIFIED:20240903T143048Z
UID:1293-1731502800-1731510000@ellwoodcitylibrary.com
SUMMARY:Free Play in the Kids' Area
DESCRIPTION:
URL:https://ellwoodcitylibrary.com/event/free-play-in-the-kids-area-2-2024-11-13/
CATEGORIES:Kids
END:VEVENT
BEGIN:VEVENT
DTSTART;TZID=UTC:20241114T103000
DTEND;TZID=UTC:20241114T123000
DTSTAMP:20260420T091600
CREATED:20240828T164406Z
LAST-MODIFIED:20240828T164406Z
UID:1531-1731580200-1731587400@ellwoodcitylibrary.com
SUMMARY:Adult Card Club
DESCRIPTION:Bring your card playing friends to join our Adult Card Club! We will provide coffee\, tea\, and water. Don’t play cards? We have board games too! Or bring your own dominos to play! So many options for everyone.
URL:https://ellwoodcitylibrary.com/event/adult-card-club-2024-11-14/
CATEGORIES:Adults
END:VEVENT
BEGIN:VEVENT
DTSTART;TZID=UTC:20241114T130000
DTEND;TZID=UTC:20241114T150000
DTSTAMP:20260420T091600
CREATED:20240501T144907Z
LAST-MODIFIED:20240903T143048Z
UID:1294-1731589200-1731596400@ellwoodcitylibrary.com
SUMMARY:Free Play in the Kids' Area
DESCRIPTION:
URL:https://ellwoodcitylibrary.com/event/free-play-in-the-kids-area-2-2024-11-14/
CATEGORIES:Kids
END:VEVENT
BEGIN:VEVENT
DTSTART;TZID=UTC:20241115T103000
DTEND;TZID=UTC:20241115T103000
DTSTAMP:20260420T091600
CREATED:20231018T230840Z
LAST-MODIFIED:20240919T180504Z
UID:1499-1731666600-1731666600@ellwoodcitylibrary.com
SUMMARY:Coloring for Adults
DESCRIPTION:
URL:https://ellwoodcitylibrary.com/event/adult-coloring-2024-11-15/
CATEGORIES:Adults
END:VEVENT
BEGIN:VEVENT
DTSTART;TZID=UTC:20241115T123000
DTEND;TZID=UTC:20241115T143000
DTSTAMP:20260420T091600
CREATED:20231018T231609Z
LAST-MODIFIED:20240919T180330Z
UID:1460-1731673800-1731681000@ellwoodcitylibrary.com
SUMMARY:Adult Knitting Group
DESCRIPTION:
URL:https://ellwoodcitylibrary.com/event/knitters-group-2024-11-15/
CATEGORIES:Adults
END:VEVENT
BEGIN:VEVENT
DTSTART;TZID=UTC:20241118T103000
DTEND;TZID=UTC:20241118T113000
DTSTAMP:20260420T091600
CREATED:20240828T153310Z
LAST-MODIFIED:20240828T153853Z
UID:1186-1731925800-1731929400@ellwoodcitylibrary.com
SUMMARY:Music & Movement
DESCRIPTION:Every 1st and 3rd Monday  |  10:30am\nAll mobile children are welcome to come dance\, wiggle\, and sing to wake up on these Monday mornings! On the weeks we don’t have M&M\, feel free to come and play in the Children’s Area with our library friends for more socialization!
URL:https://ellwoodcitylibrary.com/event/music-movement-2-2024-11-18/
CATEGORIES:Kids
END:VEVENT
BEGIN:VEVENT
DTSTART;TZID=UTC:20241118T130000
DTEND;TZID=UTC:20241118T130000
DTSTAMP:20260420T091600
CREATED:20231220T180930Z
LAST-MODIFIED:20231220T180930Z
UID:1088-1731934800-1731934800@ellwoodcitylibrary.com
SUMMARY:Monday Afternoon Adult Book Group
DESCRIPTION:
URL:https://ellwoodcitylibrary.com/event/monday-afternoon-adult-book-group-2024-11-18/
CATEGORIES:Adults
END:VEVENT
BEGIN:VEVENT
DTSTART;TZID=UTC:20241118T130000
DTEND;TZID=UTC:20241118T150000
DTSTAMP:20260420T091600
CREATED:20240501T144907Z
LAST-MODIFIED:20240903T143055Z
UID:1295-1731934800-1731942000@ellwoodcitylibrary.com
SUMMARY:Free Play in the Kids' Area
DESCRIPTION:
URL:https://ellwoodcitylibrary.com/event/free-play-in-the-kids-area-2-2024-11-18/
CATEGORIES:Kids
END:VEVENT
END:VCALENDAR